BEGIN:VCALENDAR
VERSION:2.0
PRODID:-//Vertente Natural - ECPv5.1.1//NONSGML v1.0//EN
CALSCALE:GREGORIAN
METHOD:PUBLISH
X-WR-CALNAME:Vertente Natural
X-ORIGINAL-URL:https://vertentenatural.com
X-WR-CALDESC:Events for Vertente Natural
BEGIN:VTIMEZONE
TZID:UTC
BEGIN:STANDARD
TZOFFSETFROM:+0000
TZOFFSETTO:+0000
TZNAME:UTC
DTSTART:20250101T000000
END:STANDARD
END:VTIMEZONE
BEGIN:VEVENT
DTSTART;TZID=UTC:20250309T100000
DTEND;TZID=UTC:20250309T130000
DTSTAMP:20260423T035229
CREATED:20210426T152314Z
LAST-MODIFIED:20241211T162742Z
UID:9221-1741514400-1741525200@vertentenatural.com
SUMMARY:Rota do Calhau da Cova 09-03-2025
DESCRIPTION:
URL:https://vertentenatural.com/atividadeemagenda/rota-do-calhau-da-cova-09-03-2025/
CATEGORIES:Aniversário,Ativa,Casal,Família,Grupo,Individual,Passeios Pedestres
ATTACH;FMTTYPE=image/jpeg:https://vertentenatural.com/wp-content/uploads/2020/12/Pedestre-Rota-do-Calhau-da-Cova.jpg
END:VEVENT
END:VCALENDAR