BEGIN:VCALENDAR
VERSION:2.0
PRODID:-//Vertente Natural - ECPv5.1.1//NONSGML v1.0//EN
CALSCALE:GREGORIAN
METHOD:PUBLISH
X-WR-CALNAME:Vertente Natural
X-ORIGINAL-URL:https://vertentenatural.com
X-WR-CALDESC:Events for Vertente Natural
BEGIN:VTIMEZONE
TZID:UTC
BEGIN:STANDARD
TZOFFSETFROM:+0000
TZOFFSETTO:+0000
TZNAME:UTC
DTSTART:20210101T000000
END:STANDARD
END:VTIMEZONE
BEGIN:VEVENT
DTSTART;TZID=UTC:20210626T080000
DTEND;TZID=UTC:20210626T170000
DTSTAMP:20260426T003352
CREATED:20210503T183649Z
LAST-MODIFIED:20210520T172933Z
UID:9427-1624694400-1624726800@vertentenatural.com
SUMMARY:Saída de mergulho 26-06-2021
DESCRIPTION:
URL:https://vertentenatural.com/atividadeemagenda/saida-de-mergulho-26-06-2021/
CATEGORIES:Ativa,Casal,Família,Grupo de Amigos,Individual,Mergulho
ATTACH;FMTTYPE=image/jpeg:https://vertentenatural.com/wp-content/uploads/2020/06/Mergulho-13.jpg
END:VEVENT
END:VCALENDAR