BEGIN:VCALENDAR
VERSION:2.0
PRODID:-//Vertente Natural - ECPv5.1.1//NONSGML v1.0//EN
CALSCALE:GREGORIAN
METHOD:PUBLISH
X-WR-CALNAME:Vertente Natural
X-ORIGINAL-URL:https://vertentenatural.com
X-WR-CALDESC:Events for Vertente Natural
BEGIN:VTIMEZONE
TZID:UTC
BEGIN:STANDARD
TZOFFSETFROM:+0000
TZOFFSETTO:+0000
TZNAME:UTC
DTSTART:20210101T000000
END:STANDARD
END:VTIMEZONE
BEGIN:VEVENT
DTSTART;TZID=UTC:20210605T080000
DTEND;TZID=UTC:20210605T170000
DTSTAMP:20260423T021054
CREATED:20210527T173933Z
LAST-MODIFIED:20210527T174959Z
UID:9602-1622880000-1622912400@vertentenatural.com
SUMMARY:Lapa da Furada 05-06-2021
DESCRIPTION:
URL:https://vertentenatural.com/en/atividadeemagenda/lapa-da-furada-05-06-2021-en/
CATEGORIES:Birthdays,Couples,Family,Group of Friends,Individual,Sporty
ATTACH;FMTTYPE=image/jpeg:https://vertentenatural.com/wp-content/uploads/2020/12/Espeleo-Lapa-da-Furada-3.jpg
END:VEVENT
END:VCALENDAR