BEGIN:VCALENDAR
VERSION:2.0
PRODID:-//Vertente Natural - ECPv5.1.1//NONSGML v1.0//EN
CALSCALE:GREGORIAN
METHOD:PUBLISH
X-WR-CALNAME:Vertente Natural
X-ORIGINAL-URL:https://vertentenatural.com
X-WR-CALDESC:Events for Vertente Natural
BEGIN:VTIMEZONE
TZID:UTC
BEGIN:STANDARD
TZOFFSETFROM:+0000
TZOFFSETTO:+0000
TZNAME:UTC
DTSTART:20210101T000000
END:STANDARD
END:VTIMEZONE
BEGIN:VEVENT
DTSTART;TZID=UTC:20210612T080000
DTEND;TZID=UTC:20210612T170000
DTSTAMP:20260423T102416
CREATED:20210527T182712Z
LAST-MODIFIED:20210527T182712Z
UID:9649-1623484800-1623517200@vertentenatural.com
SUMMARY:Lapa Verde 12-06-2021
DESCRIPTION:
URL:https://vertentenatural.com/en/atividadeemagenda/lapa-verde-12-06-2021-en/
CATEGORIES:Active,Couples,Family,Group of Friends,Individual,Sporty
ATTACH;FMTTYPE=image/jpeg:https://vertentenatural.com/wp-content/uploads/2021/03/Espeleo-Lapa-Verde-7.jpg
END:VEVENT
END:VCALENDAR