BEGIN:VCALENDAR
VERSION:2.0
PRODID:-//Vertente Natural - ECPv5.1.1//NONSGML v1.0//EN
CALSCALE:GREGORIAN
METHOD:PUBLISH
X-WR-CALNAME:Vertente Natural
X-ORIGINAL-URL:https://vertentenatural.com
X-WR-CALDESC:Events for Vertente Natural
BEGIN:VTIMEZONE
TZID:UTC
BEGIN:STANDARD
TZOFFSETFROM:+0000
TZOFFSETTO:+0000
TZNAME:UTC
DTSTART:20210101T000000
END:STANDARD
END:VTIMEZONE
BEGIN:VEVENT
DTSTART;TZID=UTC:20210704T080000
DTEND;TZID=UTC:20210704T170000
DTSTAMP:20260424T155436
CREATED:20210608T161932Z
LAST-MODIFIED:20210608T161932Z
UID:9874-1625385600-1625418000@vertentenatural.com
SUMMARY:Meia Velha 04-07-2021
DESCRIPTION:
URL:https://vertentenatural.com/en/atividadeemagenda/meia-velha-04-07-2021-en/
CATEGORIES:Birthdays,Couples,Family,Group of Friends,Individual,Sporty
ATTACH;FMTTYPE=image/jpeg:https://vertentenatural.com/wp-content/uploads/2020/06/Coasteering_lg.jpg
END:VEVENT
END:VCALENDAR