BEGIN:VCALENDAR
VERSION:2.0
PRODID:-//Vertente Natural - ECPv5.1.1//NONSGML v1.0//EN
CALSCALE:GREGORIAN
METHOD:PUBLISH
X-WR-CALNAME:Vertente Natural
X-ORIGINAL-URL:https://vertentenatural.com
X-WR-CALDESC:Events for Vertente Natural
BEGIN:VTIMEZONE
TZID:UTC
BEGIN:STANDARD
TZOFFSETFROM:+0000
TZOFFSETTO:+0000
TZNAME:UTC
DTSTART:20210101T000000
END:STANDARD
END:VTIMEZONE
BEGIN:VEVENT
DTSTART;TZID=UTC:20210619T080000
DTEND;TZID=UTC:20210619T170000
DTSTAMP:20260425T184402
CREATED:20210607T175540Z
LAST-MODIFIED:20210607T175540Z
UID:9816-1624089600-1624122000@vertentenatural.com
SUMMARY:Meia Velha 19-06-2021
DESCRIPTION:
URL:https://vertentenatural.com/en/atividadeemagenda/meia-velha-19-06-2021-en/
CATEGORIES:Active,Couples,Family,Group of Friends,Individual,Sporty
ATTACH;FMTTYPE=image/jpeg:https://vertentenatural.com/wp-content/uploads/2020/06/Coasteering_lg.jpg
END:VEVENT
END:VCALENDAR