BEGIN:VCALENDAR
VERSION:2.0
PRODID:-//Vertente Natural - ECPv5.1.1//NONSGML v1.0//EN
CALSCALE:GREGORIAN
METHOD:PUBLISH
X-WR-CALNAME:Vertente Natural
X-ORIGINAL-URL:https://vertentenatural.com
X-WR-CALDESC:Évènements pour Vertente Natural
BEGIN:VTIMEZONE
TZID:UTC
BEGIN:STANDARD
TZOFFSETFROM:+0000
TZOFFSETTO:+0000
TZNAME:UTC
DTSTART:20210101T000000
END:STANDARD
END:VTIMEZONE
BEGIN:VEVENT
DTSTART;TZID=UTC:20210613T080000
DTEND;TZID=UTC:20210613T170000
DTSTAMP:20260425T184403
CREATED:20210608T153258Z
LAST-MODIFIED:20210608T153258Z
UID:9838-1623571200-1623603600@vertentenatural.com
SUMMARY:Découverte du Parc Marin d´Arrábida 13-06-2021
DESCRIPTION:
URL:https://vertentenatural.com/fr/atividadeemagenda/decouverte-du-parc-marin-darrabida-13-06-2021/
CATEGORIES:Couple,Détendue,Famille,Groupe d'Amis,Individuelle
ATTACH;FMTTYPE=image/jpeg:https://vertentenatural.com/wp-content/uploads/2020/06/Snorkeling-4.jpg
END:VEVENT
END:VCALENDAR