BEGIN:VCALENDAR
VERSION:2.0
PRODID:-//Vertente Natural - ECPv5.1.1//NONSGML v1.0//EN
CALSCALE:GREGORIAN
METHOD:PUBLISH
X-WR-CALNAME:Vertente Natural
X-ORIGINAL-URL:https://vertentenatural.com
X-WR-CALDESC:Évènements pour Vertente Natural
BEGIN:VTIMEZONE
TZID:UTC
BEGIN:STANDARD
TZOFFSETFROM:+0000
TZOFFSETTO:+0000
TZNAME:UTC
DTSTART:20210101T000000
END:STANDARD
END:VTIMEZONE
BEGIN:VEVENT
DTSTART;TZID=UTC:20210711T080000
DTEND;TZID=UTC:20210711T170000
DTSTAMP:20260424T035954
CREATED:20210618T120306Z
LAST-MODIFIED:20210618T120306Z
UID:10245-1625990400-1626022800@vertentenatural.com
SUMMARY:Découverte du Parc Marin d´Arrábida 11-07-2021
DESCRIPTION:
URL:https://vertentenatural.com/fr/atividadeemagenda/descobrir-o-parque-marinho-11-07-2021-fr/
CATEGORIES:Anniversaire,Couple,Détendue,Famille,Groupe d'Amis,Individuelle
ATTACH;FMTTYPE=image/jpeg:https://vertentenatural.com/wp-content/uploads/2020/06/Snorkeling-4.jpg
END:VEVENT
END:VCALENDAR