BEGIN:VCALENDAR
VERSION:2.0
PRODID:-//Vertente Natural - ECPv5.1.1//NONSGML v1.0//EN
CALSCALE:GREGORIAN
METHOD:PUBLISH
X-WR-CALNAME:Vertente Natural
X-ORIGINAL-URL:https://vertentenatural.com
X-WR-CALDESC:Évènements pour Vertente Natural
BEGIN:VTIMEZONE
TZID:UTC
BEGIN:STANDARD
TZOFFSETFROM:+0000
TZOFFSETTO:+0000
TZNAME:UTC
DTSTART:20210101T000000
END:STANDARD
END:VTIMEZONE
BEGIN:VEVENT
DTSTART;TZID=UTC:20210529T080000
DTEND;TZID=UTC:20210529T170000
DTSTAMP:20260423T071547
CREATED:20210524T110136Z
LAST-MODIFIED:20210524T110136Z
UID:9495-1622275200-1622307600@vertentenatural.com
SUMMARY:Enseada da Mula 29-05-2021 - 9h30 -fr
DESCRIPTION:
URL:https://vertentenatural.com/fr/atividadeemagenda/enseada-da-mula-29-05-2021-9h-fr30/
CATEGORIES:Active,Anniversaire,Couple,Groupe d'Amis,Individuelle
ATTACH;FMTTYPE=image/jpeg:https://vertentenatural.com/wp-content/uploads/2020/06/Coasteering-Mula-1.jpg
END:VEVENT
END:VCALENDAR