BEGIN:VCALENDAR
VERSION:2.0
PRODID:-//Vertente Natural - ECPv5.1.1//NONSGML v1.0//EN
CALSCALE:GREGORIAN
METHOD:PUBLISH
X-WR-CALNAME:Vertente Natural
X-ORIGINAL-URL:https://vertentenatural.com
X-WR-CALDESC:Évènements pour Vertente Natural
BEGIN:VTIMEZONE
TZID:UTC
BEGIN:STANDARD
TZOFFSETFROM:+0000
TZOFFSETTO:+0000
TZNAME:UTC
DTSTART:20210101T000000
END:STANDARD
END:VTIMEZONE
BEGIN:VEVENT
DTSTART;TZID=UTC:20210717T080000
DTEND;TZID=UTC:20210717T170000
DTSTAMP:20260424T154629
CREATED:20210618T121734Z
LAST-MODIFIED:20210618T121734Z
UID:10266-1626508800-1626541200@vertentenatural.com
SUMMARY:Plongées Guidées 17-07-2021
DESCRIPTION:
URL:https://vertentenatural.com/fr/atividadeemagenda/saida-de-mergulho-17-07-2021-fr/
CATEGORIES:Active,Couple,Famille,Groupe d'Amis,Individuelle
ATTACH;FMTTYPE=image/jpeg:https://vertentenatural.com/wp-content/uploads/2020/06/Mergulho-13.jpg
END:VEVENT
END:VCALENDAR