BEGIN:VCALENDAR
VERSION:2.0
PRODID:-//Vertente Natural - ECPv5.1.1//NONSGML v1.0//EN
CALSCALE:GREGORIAN
METHOD:PUBLISH
X-WR-CALNAME:Vertente Natural
X-ORIGINAL-URL:https://vertentenatural.com
X-WR-CALDESC:Évènements pour Vertente Natural
BEGIN:VTIMEZONE
TZID:UTC
BEGIN:STANDARD
TZOFFSETFROM:+0000
TZOFFSETTO:+0000
TZNAME:UTC
DTSTART:20210101T000000
END:STANDARD
END:VTIMEZONE
BEGIN:VEVENT
DTSTART;TZID=UTC:20210613T080000
DTEND;TZID=UTC:20210613T170000
DTSTAMP:20260425T122959
CREATED:20210527T183444Z
LAST-MODIFIED:20210527T183444Z
UID:9658-1623571200-1623603600@vertentenatural.com
SUMMARY:Sesimbra Sauvage 13-06-2021
DESCRIPTION:
URL:https://vertentenatural.com/fr/atividadeemagenda/sesimbra-selvagem-13-06-2021-fr/
CATEGORIES:Anniversaire,Couple,Détendue,EVG/EVJF,Famille,Groupe d'Amis,Individuelle
ATTACH;FMTTYPE=image/jpeg:https://vertentenatural.com/wp-content/uploads/2020/06/Kayak-8.jpg
END:VEVENT
END:VCALENDAR