BEGIN:VCALENDAR
VERSION:2.0
PRODID:-//Vertente Natural - ECPv5.1.1//NONSGML v1.0//EN
CALSCALE:GREGORIAN
METHOD:PUBLISH
X-WR-CALNAME:Vertente Natural
X-ORIGINAL-URL:https://vertentenatural.com
X-WR-CALDESC:Évènements pour Vertente Natural
BEGIN:VTIMEZONE
TZID:UTC
BEGIN:STANDARD
TZOFFSETFROM:+0000
TZOFFSETTO:+0000
TZNAME:UTC
DTSTART:20210101T000000
END:STANDARD
END:VTIMEZONE
BEGIN:VEVENT
DTSTART;TZID=UTC:20210501T080000
DTEND;TZID=UTC:20210501T170000
DTSTAMP:20260423T070827
CREATED:20210427T062739Z
LAST-MODIFIED:20210427T062739Z
UID:9341-1619856000-1619888400@vertentenatural.com
SUMMARY:Voyage de plongée 01-05-2021
DESCRIPTION:
URL:https://vertentenatural.com/fr/atividadeemagenda/voyage-de-plongee-01-05-2021/
CATEGORIES:Active,Groupe d'Amis,Individuelle,Plongée
ATTACH;FMTTYPE=image/jpeg:https://vertentenatural.com/wp-content/uploads/2020/06/Mergulho-13.jpg
END:VEVENT
END:VCALENDAR